Workbook

Sheet Settings
A1: Settings
A2: Change the yellow cells. Everything else calculates automatically.
A4: As-of date | B4: 46326

Sheet Invoice Tracker
A1: Accounts Receivable Invoice Tracker
A2: Enter invoices in blue columns. Due date, open amount, days past due, bucket, and status calculate automatically.
A4: Customer | B4: Invoice # | C4: PO # | D4: Invoice Date | E4: Terms (Days) | F4: Due Date | G4: Invoice Amount | H4: Amount Paid | I4: Open Amount | J4: Days Past Due | K4: Aging Bucket | L4: Status | M4: Promise-to-Pay Date | N4: Disputed (Y/N) | O4: Collector | P4: Notes
A5: Acme Industrial | B5: INV-45120 | C5: PO-7835 | D5: 46300 | E5: 30 | F5: =IF(D5="","",D5+E5) -> 46330 | G5: 8500 | H5: 0 | I5: =IF(B5="","",G5-H5) -> 8500 | J5: =IF(B5="","",IF(I5<=0,0,MAX(0,Settings!$B$4-F5))) -> 0 | K5: =IF(B5="","",IF(I5<=0,"Paid",IF(J5=0,"Current",IF(J5<=30,"1-30",IF(J5<=60,"31-60",IF(J5<=90,"61-90","Over 90")))))) -> Current | L5: =IF(B5="","",IF(I5<=0,"Paid",IF(N5="Y","Disputed",IF(J5=0,"Open","Past Due")))) -> Open | N5: N | O5: Maria
A6: Acme Industrial | B6: INV-45012 | C6: PO-7790 | D6: 46277 | E6: 30 | F6: =IF(D6="","",D6+E6) -> 46307 | G6: 6300 | H6: 1300 | I6: =IF(B6="","",G6-H6) -> 5000 | J6: =IF(B6="","",IF(I6<=0,0,MAX(0,Settings!$B$4-F6))) -> 19 | K6: =IF(B6="","",IF(I6<=0,"Paid",IF(J6=0,"Current",IF(J6<=30,"1-30",IF(J6<=60,"31-60",IF(J6<=90,"61-90","Over 90")))))) -> 1-30 | L6: =IF(B6="","",IF(I6<=0,"Paid",IF(N6="Y","Disputed",IF(J6=0,"Open","Past Due")))) -> Past Due | M6: 46331 | N6: N | O6: Maria
A7: Northline Distribution | B7: INV-44870 | C7: PO-7712 | D7: 46252 | E7: 30 | F7: =IF(D7="","",D7+E7) -> 46282 | G7: 9400 | H7: 0 | I7: =IF(B7="","",G7-H7) -> 9400 | J7: =IF(B7="","",IF(I7<=0,0,MAX(0,Settings!$B$4-F7))) -> 44 | K7: =IF(B7="","",IF(I7<=0,"Paid",IF(J7=0,"Current",IF(J7<=30,"1-30",IF(J7<=60,"31-60",IF(J7<=90,"61-90","Over 90")))))) -> 31-60 | L7: =IF(B7="","",IF(I7<=0,"Paid",IF(N7="Y","Disputed",IF(J7=0,"Open","Past Due")))) -> Past Due | N7: N | O7: James
A8: Northline Distribution | B8: INV-45201 | C8: PO-7901 | D8: 46313 | E8: 30 | F8: =IF(D8="","",D8+E8) -> 46343 | G8: 6200 | H8: 0 | I8: =IF(B8="","",G8-H8) -> 6200 | J8: =IF(B8="","",IF(I8<=0,0,MAX(0,Settings!$B$4-F8))) -> 0 | K8: =IF(B8="","",IF(I8<=0,"Paid",IF(J8=0,"Current",IF(J8<=30,"1-30",IF(J8<=60,"31-60",IF(J8<=90,"61-90","Over 90")))))) -> Current | L8: =IF(B8="","",IF(I8<=0,"Paid",IF(N8="Y","Disputed",IF(J8=0,"Open","Past Due")))) -> Open | N8: N | O8: James
A9: Summit Builders | B9: INV-44610 | C9: PO-1188 | D9: 46223 | E9: 30 | F9: =IF(D9="","",D9+E9) -> 46253 | G9: 15800 | H9: 0 | I9: =IF(B9="","",G9-H9) -> 15800 | J9: =IF(B9="","",IF(I9<=0,0,MAX(0,Settings!$B$4-F9))) -> 73 | K9: =IF(B9="","",IF(I9<=0,"Paid",IF(J9=0,"Current",IF(J9<=30,"1-30",IF(J9<=60,"31-60",IF(J9<=90,"61-90","Over 90")))))) -> 61-90 | L9: =IF(B9="","",IF(I9<=0,"Paid",IF(N9="Y","Disputed",IF(J9=0,"Open","Past Due")))) -> Disputed | N9: Y | O9: Maria
A10: Summit Builders | B10: INV-45230 | C10: PO-1204 | D10: 46315 | E10: 45 | F10: =IF(D10="","",D10+E10) -> 46360 | G10: 12400 | H10: 0 | I10: =IF(B10="","",G10-H10) -> 12400 | J10: =IF(B10="","",IF(I10<=0,0,MAX(0,Settings!$B$4-F10))) -> 0 | K10: =IF(B10="","",IF(I10<=0,"Paid",IF(J10=0,"Current",IF(J10<=30,"1-30",IF(J10<=60,"31-60",IF(J10<=90,"61-90","Over 90")))))) -> Current | L10: =IF(B10="","",IF(I10<=0,"Paid",IF(N10="Y","Disputed",IF(J10=0,"Open","Past Due")))) -> Open | N10: N | O10: Maria
A11: Harbor Logistics | B11: INV-44950 | C11: PO-3320 | D11: 46266 | E11: 30 | F11: =IF(D11="","",D11+E11) -> 46296 | G11: 4300 | H11: 4300 | I11: =IF(B11="","",G11-H11) -> 0 | J11: =IF(B11="","",IF(I11<=0,0,MAX(0,Settings!$B$4-F11))) -> 0 | K11: =IF(B11="","",IF(I11<=0,"Paid",IF(J11=0,"Current",IF(J11<=30,"1-30",IF(J11<=60,"31-60",IF(J11<=90,"61-90","Over 90")))))) -> Paid | L11: =IF(B11="","",IF(I11<=0,"Paid",IF(N11="Y","Disputed",IF(J11=0,"Open","Past Due")))) -> Paid | N11: N | O11: Priya
A12: Harbor Logistics | B12: INV-45100 | C12: PO-3361 | D12: 46293 | E12: 30 | F12: =IF(D12="","",D12+E12) -> 46323 | G12: 7700 | H12: 0 | I12: =IF(B12="","",G12-H12) -> 7700 | J12: =IF(B12="","",IF(I12<=0,0,MAX(0,Settings!$B$4-F12))) -> 3 | K12: =IF(B12="","",IF(I12<=0,"Paid",IF(J12=0,"Current",IF(J12<=30,"1-30",IF(J12<=60,"31-60",IF(J12<=90,"61-90","Over 90")))))) -> 1-30 | L12: =IF(B12="","",IF(I12<=0,"Paid",IF(N12="Y","Disputed",IF(J12=0,"Open","Past Due")))) -> Past Due | M12: 46336 | N12: N | O12: Priya
A13: Redwood Supply Co | B13: INV-44400 | C13: PO-5512 | D13: 46188 | E13: 30 | F13: =IF(D13="","",D13+E13) -> 46218 | G13: 3200 | H13: 0 | I13: =IF(B13="","",G13-H13) -> 3200 | J13: =IF(B13="","",IF(I13<=0,0,MAX(0,Settings!$B$4-F13))) -> 108 | K13: =IF(B13="","",IF(I13<=0,"Paid",IF(J13=0,"Current",IF(J13<=30,"1-30",IF(J13<=60,"31-60",IF(J13<=90,"61-90","Over 90")))))) -> Over 90 | L13: =IF(B13="","",IF(I13<=0,"Paid",IF(N13="Y","Disputed",IF(J13=0,"Open","Past Due")))) -> Past Due | N13: N | O13: James
A14: Redwood Supply Co | B14: INV-45150 | C14: PO-5590 | D14: 46296 | E14: 60 | F14: =IF(D14="","",D14+E14) -> 46356 | G14: 21000 | H14: 0 | I14: =IF(B14="","",G14-H14) -> 21000 | J14: =IF(B14="","",IF(I14<=0,0,MAX(0,Settings!$B$4-F14))) -> 0 | K14: =IF(B14="","",IF(I14<=0,"Paid",IF(J14=0,"Current",IF(J14<=30,"1-30",IF(J14<=60,"31-60",IF(J14<=90,"61-90","Over 90")))))) -> Current | L14: =IF(B14="","",IF(I14<=0,"Paid",IF(N14="Y","Disputed",IF(J14=0,"Open","Past Due")))) -> Open | N14: N | O14: James
A15: Pioneer Rental | B15: INV-45010 | C15: PO-8820 | D15: 46275 | E15: 30 | F15: =IF(D15="","",D15+E15) -> 46305 | G15: 5600 | H15: 2000 | I15: =IF(B15="","",G15-H15) -> 3600 | J15: =IF(B15="","",IF(I15<=0,0,MAX(0,Settings!$B$4-F15))) -> 21 | K15: =IF(B15="","",IF(I15<=0,"Paid",IF(J15=0,"Current",IF(J15<=30,"1-30",IF(J15<=60,"31-60",IF(J15<=90,"61-90","Over 90")))))) -> 1-30 | L15: =IF(B15="","",IF(I15<=0,"Paid",IF(N15="Y","Disputed",IF(J15=0,"Open","Past Due")))) -> Past Due | N15: N | O15: Priya
A16: Pioneer Rental | B16: INV-45260 | C16: PO-8875 | D16: 46320 | E16: 30 | F16: =IF(D16="","",D16+E16) -> 46350 | G16: 9900 | H16: 0 | I16: =IF(B16="","",G16-H16) -> 9900 | J16: =IF(B16="","",IF(I16<=0,0,MAX(0,Settings!$B$4-F16))) -> 0 | K16: =IF(B16="","",IF(I16<=0,"Paid",IF(J16=0,"Current",IF(J16<=30,"1-30",IF(J16<=60,"31-60",IF(J16<=90,"61-90","Over 90")))))) -> Current | L16: =IF(B16="","",IF(I16<=0,"Paid",IF(N16="Y","Disputed",IF(J16=0,"Open","Past Due")))) -> Open | N16: N | O16: Priya
F17: =IF(D17="","",D17+E17) | I17: =IF(B17="","",G17-H17) | J17: =IF(B17="","",IF(I17<=0,0,MAX(0,Settings!$B$4-F17))) | K17: =IF(B17="","",IF(I17<=0,"Paid",IF(J17=0,"Current",IF(J17<=30,"1-30",IF(J17<=60,"31-60",IF(J17<=90,"61-90","Over 90")))))) | L17: =IF(B17="","",IF(I17<=0,"Paid",IF(N17="Y","Disputed",IF(J17=0,"Open","Past Due"))))
F18: =IF(D18="","",D18+E18) | I18: =IF(B18="","",G18-H18) | J18: =IF(B18="","",IF(I18<=0,0,MAX(0,Settings!$B$4-F18))) | K18: =IF(B18="","",IF(I18<=0,"Paid",IF(J18=0,"Current",IF(J18<=30,"1-30",IF(J18<=60,"31-60",IF(J18<=90,"61-90","Over 90")))))) | L18: =IF(B18="","",IF(I18<=0,"Paid",IF(N18="Y","Disputed",IF(J18=0,"Open","Past Due"))))
F19: =IF(D19="","",D19+E19) | I19: =IF(B19="","",G19-H19) | J19: =IF(B19="","",IF(I19<=0,0,MAX(0,Settings!$B$4-F19))) | K19: =IF(B19="","",IF(I19<=0,"Paid",IF(J19=0,"Current",IF(J19<=30,"1-30",IF(J19<=60,"31-60",IF(J19<=90,"61-90","Over 90")))))) | L19: =IF(B19="","",IF(I19<=0,"Paid",IF(N19="Y","Disputed",IF(J19=0,"Open","Past Due"))))
F20: =IF(D20="","",D20+E20) | I20: =IF(B20="","",G20-H20) | J20: =IF(B20="","",IF(I20<=0,0,MAX(0,Settings!$B$4-F20))) | K20: =IF(B20="","",IF(I20<=0,"Paid",IF(J20=0,"Current",IF(J20<=30,"1-30",IF(J20<=60,"31-60",IF(J20<=90,"61-90","Over 90")))))) | L20: =IF(B20="","",IF(I20<=0,"Paid",IF(N20="Y","Disputed",IF(J20=0,"Open","Past Due"))))
F21: =IF(D21="","",D21+E21) | I21: =IF(B21="","",G21-H21) | J21: =IF(B21="","",IF(I21<=0,0,MAX(0,Settings!$B$4-F21))) | K21: =IF(B21="","",IF(I21<=0,"Paid",IF(J21=0,"Current",IF(J21<=30,"1-30",IF(J21<=60,"31-60",IF(J21<=90,"61-90","Over 90")))))) | L21: =IF(B21="","",IF(I21<=0,"Paid",IF(N21="Y","Disputed",IF(J21=0,"Open","Past Due"))))
F22: =IF(D22="","",D22+E22) | I22: =IF(B22="","",G22-H22) | J22: =IF(B22="","",IF(I22<=0,0,MAX(0,Settings!$B$4-F22))) | K22: =IF(B22="","",IF(I22<=0,"Paid",IF(J22=0,"Current",IF(J22<=30,"1-30",IF(J22<=60,"31-60",IF(J22<=90,"61-90","Over 90")))))) | L22: =IF(B22="","",IF(I22<=0,"Paid",IF(N22="Y","Disputed",IF(J22=0,"Open","Past Due"))))
F23: =IF(D23="","",D23+E23) | I23: =IF(B23="","",G23-H23) | J23: =IF(B23="","",IF(I23<=0,0,MAX(0,Settings!$B$4-F23))) | K23: =IF(B23="","",IF(I23<=0,"Paid",IF(J23=0,"Current",IF(J23<=30,"1-30",IF(J23<=60,"31-60",IF(J23<=90,"61-90","Over 90")))))) | L23: =IF(B23="","",IF(I23<=0,"Paid",IF(N23="Y","Disputed",IF(J23=0,"Open","Past Due"))))
F24: =IF(D24="","",D24+E24) | I24: =IF(B24="","",G24-H24) | J24: =IF(B24="","",IF(I24<=0,0,MAX(0,Settings!$B$4-F24))) | K24: =IF(B24="","",IF(I24<=0,"Paid",IF(J24=0,"Current",IF(J24<=30,"1-30",IF(J24<=60,"31-60",IF(J24<=90,"61-90","Over 90")))))) | L24: =IF(B24="","",IF(I24<=0,"Paid",IF(N24="Y","Disputed",IF(J24=0,"Open","Past Due"))))
F25: =IF(D25="","",D25+E25) | I25: =IF(B25="","",G25-H25) | J25: =IF(B25="","",IF(I25<=0,0,MAX(0,Settings!$B$4-F25))) | K25: =IF(B25="","",IF(I25<=0,"Paid",IF(J25=0,"Current",IF(J25<=30,"1-30",IF(J25<=60,"31-60",IF(J25<=90,"61-90","Over 90")))))) | L25: =IF(B25="","",IF(I25<=0,"Paid",IF(N25="Y","Disputed",IF(J25=0,"Open","Past Due"))))
F26: =IF(D26="","",D26+E26) | I26: =IF(B26="","",G26-H26) | J26: =IF(B26="","",IF(I26<=0,0,MAX(0,Settings!$B$4-F26))) | K26: =IF(B26="","",IF(I26<=0,"Paid",IF(J26=0,"Current",IF(J26<=30,"1-30",IF(J26<=60,"31-60",IF(J26<=90,"61-90","Over 90")))))) | L26: =IF(B26="","",IF(I26<=0,"Paid",IF(N26="Y","Disputed",IF(J26=0,"Open","Past Due"))))
F27: =IF(D27="","",D27+E27) | I27: =IF(B27="","",G27-H27) | J27: =IF(B27="","",IF(I27<=0,0,MAX(0,Settings!$B$4-F27))) | K27: =IF(B27="","",IF(I27<=0,"Paid",IF(J27=0,"Current",IF(J27<=30,"1-30",IF(J27<=60,"31-60",IF(J27<=90,"61-90","Over 90")))))) | L27: =IF(B27="","",IF(I27<=0,"Paid",IF(N27="Y","Disputed",IF(J27=0,"Open","Past Due"))))
F28: =IF(D28="","",D28+E28) | I28: =IF(B28="","",G28-H28) | J28: =IF(B28="","",IF(I28<=0,0,MAX(0,Settings!$B$4-F28))) | K28: =IF(B28="","",IF(I28<=0,"Paid",IF(J28=0,"Current",IF(J28<=30,"1-30",IF(J28<=60,"31-60",IF(J28<=90,"61-90","Over 90")))))) | L28: =IF(B28="","",IF(I28<=0,"Paid",IF(N28="Y","Disputed",IF(J28=0,"Open","Past Due"))))
... F204: =IF(D204="","",D204+E204) | I204: =IF(B204="","",G204-H204) | J204: =IF(B204="","",IF(I204<=0,0,MAX(0,Settings!$B$4-F204))) | K204: =IF(B204="","",IF(I204<=0,"Paid",IF(J204=0,"Current",IF(J204<=30,"1-30",IF(J204<=60,"31-60",IF(J204<=90,"61-90","Over 90")))))) | L204: =IF(B204="","",IF(I204<=0,"Paid",IF(N204="Y","Disputed",IF(J204=0,"Open","Past Due"))))

Sheet How to Use
A1: How to Use This Template
A2: Free template from Quick Receivable. quickreceivable.com
A4: 1. Set the as-of date on the Settings tab (usually today or your period-end date).
A5: 2. Replace the sample rows on the Invoice Tracker tab with your open invoices.
A6: 3. Enter amounts paid as payments arrive; the open amount and status update automatically.
A7: 4. Record promise-to-pay dates and mark disputed invoices with Y so they are not chased as standard past-due items.
A8: 5. Filter by Aging Bucket, Status, or Collector to build your daily work list.
A10: Blue text = values you enter. Shaded cells = formulas, do not overwrite.
A12: Managing AR in Salesforce? See Quick Receivable: https://quickreceivable.com/features/accounts-receivable-dashboard
